BEGIN:VCALENDAR
VERSION:2.0
PRODID:-//work in - ECPv6.7.0//NONSGML v1.0//EN
CALSCALE:GREGORIAN
METHOD:PUBLISH
X-WR-CALNAME:work in
X-ORIGINAL-URL:https://work-in.at
X-WR-CALDESC:Veranstaltungen für work in
REFRESH-INTERVAL;VALUE=DURATION:PT1H
X-Robots-Tag:noindex
X-PUBLISHED-TTL:PT1H
BEGIN:VTIMEZONE
TZID:Europe/Paris
BEGIN:DAYLIGHT
TZOFFSETFROM:+0100
TZOFFSETTO:+0200
TZNAME:CEST
DTSTART:20260329T010000
END:DAYLIGHT
BEGIN:STANDARD
TZOFFSETFROM:+0200
TZOFFSETTO:+0100
TZNAME:CET
DTSTART:20261025T010000
END:STANDARD
END:VTIMEZONE
BEGIN:VEVENT
DTSTART;TZID=Europe/Paris:20260420T183000
DTEND;TZID=Europe/Paris:20260420T193000
DTSTAMP:20260420T053439
CREATED:20260104T093054Z
LAST-MODIFIED:20260331T085158Z
UID:4119-1776709800-1776713400@work-in.at
SUMMARY:Yoga Vinyasa Flow
DESCRIPTION:End your day with yoga\, not your thoughtsAtme durch\, komm in Bewegung und lass den Tag los. Mit Pranayama\, einer kurzen Meditation und einem fließenden Vinyasa-Flow bringst du Körper\, Geist und Seele wieder in Balance. Sanft\, kräftigend und zugleich entspannend. Diese Stunde hilft dir\, loszulassen\, durchzuatmen und den Tag bewusst abzuschließen.Eine Stunde ganz für dich zum Ankommen\, Abschalten und Wohlfühlen.Für Anfänger\, Fortgeschrittene & alle\, die ihren Tag bewusst beenden möchten. \n\n\n\nAnmeldung überwww.sandra-schreiner.com/de \n\n\n\nBlöcke des work-in Studios haben hier keine Gültigkeit.
URL:https://work-in.at/event/yoga-vinyasa-flow-2
END:VEVENT
BEGIN:VEVENT
DTSTART;TZID=Europe/Paris:20260421T183000
DTEND;TZID=Europe/Paris:20260421T193000
DTSTAMP:20260420T053439
CREATED:20250130T104655Z
LAST-MODIFIED:20251202T172337Z
UID:3904-1776796200-1776799800@work-in.at
SUMMARY:weekly moves
DESCRIPTION:weekly moves gegen weekly blues!Knackiges Krafttraining im Zirkel\, Ausdauerverbesserung mit guter Musik & nebenbei all die Grundlagen\, Koordinationsübungen & Feinheiten\, die wir doch alle gern mal im Alltag oder Training vernachlässigen.weekly moves soll eine Klasse sein\, in die du gehst\, um dich gut zu fühlen.good weekly moves only! \n\n\n\nFür Anfänger\, Fortgeschrittene & alle\, die einen guten Start in die Woche suchen.
URL:https://work-in.at/event/weekly-moves-15
END:VEVENT
BEGIN:VEVENT
DTSTART;TZID=Europe/Paris:20260423T183000
DTEND;TZID=Europe/Paris:20260423T193000
DTSTAMP:20260420T053439
CREATED:20250402T150442Z
LAST-MODIFIED:20260104T090211Z
UID:3991-1776969000-1776972600@work-in.at
SUMMARY:weekly moves
DESCRIPTION:weekly moves gegen weekly blues!Knackiges Krafttraining im Zirkel\, Ausdauerverbesserung mit guter Musik & nebenbei all die Grundlagen\, Koordinationsübungen & Feinheiten\, die wir doch alle gern mal im Alltag oder Training vernachlässigen.weekly moves soll eine Klasse sein\, in die du gehst\, um dich gut zu fühlen.good weekly moves only! \n\n\n\nFür Anfänger\, Fortgeschrittene & alle\, die einen guten Start in die Woche suchen.
URL:https://work-in.at/event/weekly-moves-30
END:VEVENT
BEGIN:VEVENT
DTSTART;TZID=Europe/Paris:20260427T183000
DTEND;TZID=Europe/Paris:20260427T193000
DTSTAMP:20260420T053439
CREATED:20260104T093338Z
LAST-MODIFIED:20260331T085654Z
UID:4131-1777314600-1777318200@work-in.at
SUMMARY:Yoga Vinyasa Flow
DESCRIPTION:End your day with yoga\, not your thoughtsAtme durch\, komm in Bewegung und lass den Tag los. Mit Pranayama\, einer kurzen Meditation und einem fließenden Vinyasa-Flow bringst du Körper\, Geist und Seele wieder in Balance. Sanft\, kräftigend und zugleich entspannend. Diese Stunde hilft dir\, loszulassen\, durchzuatmen und den Tag bewusst abzuschließen.Eine Stunde ganz für dich zum Ankommen\, Abschalten und Wohlfühlen.Für Anfänger\, Fortgeschrittene & alle\, die ihren Tag bewusst beenden möchten. \n\n\n\nAnmeldung überwww.sandra-schreiner.com/de \n\n\n\nBlöcke des work-in Studios haben hier keine Gültigkeit.
URL:https://work-in.at/event/yoga-vinyasa-flow-3
END:VEVENT
BEGIN:VEVENT
DTSTART;TZID=Europe/Paris:20260427T194000
DTEND;TZID=Europe/Paris:20260427T205000
DTSTAMP:20260420T053439
CREATED:20260104T093213Z
LAST-MODIFIED:20260331T085238Z
UID:4129-1777318800-1777323000@work-in.at
SUMMARY:HIIT
DESCRIPTION:End your day with exercise\, not your couch.Komm in Schwung\, power dich aus und lass den Tag aktiv hinter dir. Mit abwechslungsreichen Functional-Übungen und kurzen Pausen trainierst du Kraft\, Ausdauer und Beweglichkeit. Eine Stunde ganz für dich\, effektiv\, fordernd und motivierend\, für ein starkes Körpergefühl.Für Anfänger\, Fortgeschrittene & alle\, die ihren Tag kraftvoll beenden möchten. \n\n\n\nAnmeldung überwww.sandra-schreiner.com/de \n\n\n\nBlöcke des work-in Studios haben hier keine Gültigkeit.
URL:https://work-in.at/event/hiit
END:VEVENT
BEGIN:VEVENT
DTSTART;TZID=Europe/Paris:20260428T183000
DTEND;TZID=Europe/Paris:20260428T193000
DTSTAMP:20260420T053439
CREATED:20250402T150350Z
LAST-MODIFIED:20260104T090222Z
UID:3988-1777401000-1777404600@work-in.at
SUMMARY:weekly moves
DESCRIPTION:weekly moves gegen weekly blues!Knackiges Krafttraining im Zirkel\, Ausdauerverbesserung mit guter Musik & nebenbei all die Grundlagen\, Koordinationsübungen & Feinheiten\, die wir doch alle gern mal im Alltag oder Training vernachlässigen.weekly moves soll eine Klasse sein\, in die du gehst\, um dich gut zu fühlen.good weekly moves only! \n\n\n\nFür Anfänger\, Fortgeschrittene & alle\, die einen guten Start in die Woche suchen.
URL:https://work-in.at/event/weekly-moves-29
END:VEVENT
BEGIN:VEVENT
DTSTART;TZID=Europe/Paris:20260430T183000
DTEND;TZID=Europe/Paris:20260430T193000
DTSTAMP:20260420T053439
CREATED:20250402T150412Z
LAST-MODIFIED:20260104T090232Z
UID:3989-1777573800-1777577400@work-in.at
SUMMARY:weekly moves
DESCRIPTION:weekly moves gegen weekly blues!Knackiges Krafttraining im Zirkel\, Ausdauerverbesserung mit guter Musik & nebenbei all die Grundlagen\, Koordinationsübungen & Feinheiten\, die wir doch alle gern mal im Alltag oder Training vernachlässigen.weekly moves soll eine Klasse sein\, in die du gehst\, um dich gut zu fühlen.good weekly moves only! \n\n\n\nFür Anfänger\, Fortgeschrittene & alle\, die einen guten Start in die Woche suchen.
URL:https://work-in.at/event/weekly-moves-copy
END:VEVENT
END:VCALENDAR